BEGIN:VCALENDAR
VERSION:2.0
PRODID:-//Zephyr Project - ECPv6.15.20//NONSGML v1.0//EN
CALSCALE:GREGORIAN
METHOD:PUBLISH
X-ORIGINAL-URL:https://zephyrproject.org
X-WR-CALDESC:Events for Zephyr Project
REFRESH-INTERVAL;VALUE=DURATION:PT1H
X-Robots-Tag:noindex
X-PUBLISHED-TTL:PT1H
BEGIN:VTIMEZONE
TZID:America/Los_Angeles
BEGIN:DAYLIGHT
TZOFFSETFROM:-0800
TZOFFSETTO:-0700
TZNAME:PDT
DTSTART:20220313T100000
END:DAYLIGHT
BEGIN:STANDARD
TZOFFSETFROM:-0700
TZOFFSETTO:-0800
TZNAME:PST
DTSTART:20221106T090000
END:STANDARD
BEGIN:DAYLIGHT
TZOFFSETFROM:-0800
TZOFFSETTO:-0700
TZNAME:PDT
DTSTART:20230312T100000
END:DAYLIGHT
BEGIN:STANDARD
TZOFFSETFROM:-0700
TZOFFSETTO:-0800
TZNAME:PST
DTSTART:20231105T090000
END:STANDARD
BEGIN:DAYLIGHT
TZOFFSETFROM:-0800
TZOFFSETTO:-0700
TZNAME:PDT
DTSTART:20240310T100000
END:DAYLIGHT
BEGIN:STANDARD
TZOFFSETFROM:-0700
TZOFFSETTO:-0800
TZNAME:PST
DTSTART:20241103T090000
END:STANDARD
END:VTIMEZONE
BEGIN:VEVENT
DTSTART;TZID=America/Los_Angeles:20230314T180000
DTEND;TZID=America/Los_Angeles:20230314T213000
DTSTAMP:20260425T215856
CREATED:20230222T160936Z
LAST-MODIFIED:20230222T160936Z
UID:10000052-1678816800-1678829400@zephyrproject.org
SUMMARY:IoT Stars (Embedded World)
DESCRIPTION:[vc_row type=”in_container” full_screen_row_position=”middle” column_margin=”default” column_direction=”default” column_direction_tablet=”default” column_direction_phone=”default” scene_position=”center” text_color=”dark” text_align=”left” row_border_radius=”none” row_border_radius_applies=”bg” overflow=”visible” overlay_strength=”0.3″ gradient_direction=”left_to_right” shape_divider_position=”bottom” bg_image_animation=”none”][vc_column column_padding=”no-extra-padding” column_padding_tablet=”inherit” column_padding_phone=”inherit” column_padding_position=”all” column_element_direction_desktop=”default” column_element_spacing=”default” desktop_text_alignment=”default” tablet_text_alignment=”default” phone_text_alignment=”default” background_color_opacity=”1″ background_hover_color_opacity=”1″ column_backdrop_filter=”none” column_shadow=”none” column_border_radius=”none” column_link_target=”_self” column_position=”default” gradient_direction=”left_to_right” overlay_strength=”0.3″ width=”1/1″ tablet_width_inherit=”default” animation_type=”default” bg_image_animation=”none” border_type=”simple” column_border_width=”none” column_border_style=”solid”][vc_column_text]\nOn March 14\, IoT Stars\, a community of IoT professionals who gather during industry events\, will host a networking event for IoT professionals in Nuremberg\, during the first night of Embedded World. The community consists of entrepreneurs\, developers\, designers\, investors\, industry players\, press and media working in the Internet of Things (IoT) ecosystem.\n\nTo register for this event\, click here: https://www.eventbrite.com/e/iot-stars-embedded-world-2023-tickets-526427638237 (Use the FRIEND-OF-ZEPHYR code for a 25% discount) \nIoT Stars speakers include several Zephyr Project members and ambassadors including:  \n\nBlues Wireless – Brandon Satrom\nAVSystem – Marcin Nagy\nZephyr – Benjamin Cabé\n\nOther speakers include: \n\nRAK Wireless – Ken Yu\nSoracom – Dora Terjek\nEmbedded Computing Design – Brandon Lewis\n\n\n\n\nEvent details:\n\n\nZOLLHOF Tech Incubator\nZollhof 7 90443 Nürnberg Germany\n6 – 9:30 pm\n\n\n\n\n[/vc_column_text][/vc_column][/vc_row]
URL:https://zephyrproject.org/event/iot-stars/
CATEGORIES:Ambassador Speaking,Industry Conference
ATTACH;FMTTYPE=image/png:https://zephyrproject.org/wp-content/uploads/2023/02/Screenshot-2023-02-22-at-3.53.09-PM.png
END:VEVENT
END:VCALENDAR