BEGIN:VCALENDAR
VERSION:2.0
PRODID:-//Zephyr Project - ECPv6.15.20//NONSGML v1.0//EN
CALSCALE:GREGORIAN
METHOD:PUBLISH
X-WR-CALNAME:Zephyr Project
X-ORIGINAL-URL:https://zephyrproject.org
X-WR-CALDESC:Events for Zephyr Project
REFRESH-INTERVAL;VALUE=DURATION:PT1H
X-Robots-Tag:noindex
X-PUBLISHED-TTL:PT1H
BEGIN:VTIMEZONE
TZID:UTC
BEGIN:STANDARD
TZOFFSETFROM:+0000
TZOFFSETTO:+0000
TZNAME:UTC
DTSTART:20250101T000000
END:STANDARD
END:VTIMEZONE
BEGIN:VEVENT
DTSTART;VALUE=DATE:20260131
DTEND;VALUE=DATE:20260202
DTSTAMP:20260419T225340
CREATED:20251127T203702Z
LAST-MODIFIED:20260123T171743Z
UID:10000179-1769817600-1769990399@zephyrproject.org
SUMMARY:Zephyr Project at FOSDEM 2026
DESCRIPTION:The Zephyr Project will be participating at FOSDEM 2026 in Brussels! FOSDEM is a free\, open\, and community-powered event where thousands of developers from around the world gather to share ideas and collaborate-no registration required. This year\, Zephyr will be sharing a stand with the Dronecode Foundation\, showcasing products running Zephyr\, live demos\, and opportunities to meet project developers and maintainers. Expect insights on the CRA\, security best practices\, and more. \nZephyr Project Meetup in Brussels\, Belgium (Jan 30\, 2026)\nIn addition\, on January 30\, 2026\, there will be a Zephyr Project Meetup in Brussels\, Belgium. Seats are limited\, so we encourage you to register today to secure a spot. Learn more about the event and register here. \nBoF/Unconference\nZephyr RTOS Community BoF (Jan 31\, 2026 – 16:00 – 16:55)\nJoin the Zephyr RTOS community for an informal BoF session where maintainers\, contributiors\, and and anyone interested in hearing more about Zephyr will be discussing: \nRoadmap — As Zephyr turns 10 this year\, where should the community be focusing for the next 10 years?\nFeedback from product makers — If you are building actual products with Zephyr (yes\, even as a hobby!) come and share your experience\, both positive and… less positive.\nGeneral Project Health — BoFs are always a good “reality check” and participants are encouraged to bring their feedback with regards to things we could be doing better in our community. Learn more. \nCheck out this blog: Zephyr Project at FOSDEM 2026 & EU Open Source Week \nAdditional details will be updated as we get closer to the event. Join us at FOSDEM!
URL:https://zephyrproject.org/event/zephyr-project-at-fosdem-2026/
CATEGORIES:Industry Conference
ATTACH;FMTTYPE=image/png:https://zephyrproject.org/wp-content/uploads/2025/11/Screenshot-2025-11-25-at-15.04.35.png
END:VEVENT
END:VCALENDAR