BEGIN:VCALENDAR
VERSION:2.0
PRODID:-//Zephyr Project - ECPv6.15.20//NONSGML v1.0//EN
CALSCALE:GREGORIAN
METHOD:PUBLISH
X-ORIGINAL-URL:https://zephyrproject.org
X-WR-CALDESC:Events for Zephyr Project
REFRESH-INTERVAL;VALUE=DURATION:PT1H
X-Robots-Tag:noindex
X-PUBLISHED-TTL:PT1H
BEGIN:VTIMEZONE
TZID:UTC
BEGIN:STANDARD
TZOFFSETFROM:+0000
TZOFFSETTO:+0000
TZNAME:UTC
DTSTART:20250101T000000
END:STANDARD
END:VTIMEZONE
BEGIN:VEVENT
DTSTART;VALUE=DATE:20260310
DTEND;VALUE=DATE:20260313
DTSTAMP:20260420T044558
CREATED:20250702T124806Z
LAST-MODIFIED:20260304T221350Z
UID:10000157-1773100800-1773359999@zephyrproject.org
SUMMARY:Embedded World Exhibition & Conference: Nuremberg\, Germany 2026
DESCRIPTION:Established in Nuremberg back in March 2003\, the embedded world Exhibition & Conference is now going into its 24th edition in 2026. The original concept of a unique combination of an exhibition for engineers and technical management on one hand and a world-leading conference at the intersection of applied research and industrial applications on the other hand has proven extremely successful. \nembedded world Exhibition & Conference is driven by technology as well as applications with a strong focus on system and cross domain aspects. And it is driven by the embedded community – and its annual meeting. \nWe look forward to another thrilling execution for the embedded world Conference 2026 in Nuremberg. \nThe Zephyr Project will be present at the embedded world Exhibition 2026 with a dedicated booth(Hall 4\, Stand 4-170). Ecosystem members Antmicro\, Nordic Semiconductor\, Silicon Labs\, NXP Semiconductors\, Renesas Electronics\, Ac6\, inovex GmbH\, Doulos\, Beningo Embedded Group\, Alif Semiconductor\, STMicroelectronics\, Blecon\, Microchip Technology and Percepio will showcase live demos in the booth. Visitors can expect product demos running on Zephyr\, hands-on discussions\, and a celebration of the Zephyr Project’s 10-year anniversary. \nThroughout the exhibition days\, the Zephyr Project will host special anniversary activities\, including a scavenger hunt as part of the 10-year celebration. There will be special-edition Zephyr anniversary hoodies\, kites\, and hardware giveaways sponsored by Infineon\, NXP Semiconductors\, Nordic Semiconductor\, Renesas Electronics\, and Silicon Labs. \nOn March 10\, IoT Stars — a global community of IoT professionals — will host an exclusive gathering during the opening night of embedded world. The event runs from 6:00 pm to 10:00 pm and offers attendees the opportunity to meet IoT professionals\, join engaging discussions\, and network in a relaxed setting. Learn more. \nOn March 11\, 2026\, the Zephyr Project booth will host a Happy Hour and the official 10-year anniversary celebration\, featuring a cake-cutting ceremony and drinks. Embedded world exhibition and conference visitors are warmly invited to join the celebration. \nThroughout the event\, attendees will also have the opportunity to meet long-time maintainers\, developers\, project members\, and the Zephyr Project team. \nIn addition\, the embedded world Conference will once again feature a dedicated Zephyr track\, highlighting real-world use cases\, technical sessions\, workshops and community insights. Learn more about the Embedded Conference 2026 here. \nDon’t forget to check the latest blog “Embedded World Conference 2026 Zephyr Project Workshop and Sessions“. \nThe embedded world exhibition & conference will take place at NürnbergMesse GmbH in Nuremberg\, Germany. \nAddress of the Embedded world exhibition & conference: \nNürnbergMesse\nExhibition Centre 1\n90471 Nuremberg \nMore details about travel & directions are here. \nVisit the Zephyr booth to collect Zephyr stickers\, kites\, commemorative anniversary stickers\, ribbons\, badges and more! \nWe look forward to another exciting edition of the embedded world Exhibition & Conference 2026 in Nuremberg. Join our 2026-embedded-world channel in the Zephyr Discord server to connect with the community and stay up to date. \nRemember to read these blogs before you attend the Embedded World Exhibition & Conference 2026: \n\nWhat to Expect from the Zephyr Project at embedded world 2026\nEmbedded World Conference 2026 Zephyr Project Workshop and Sessions\nZephyr RTOS in Action: Demos at embedded world 2026
URL:https://zephyrproject.org/event/embedded-world-exhibition-conference-nuremberg-germany-2026/
CATEGORIES:Industry Conference
ATTACH;FMTTYPE=image/png:https://zephyrproject.org/wp-content/uploads/2025/07/Embedded-World-Exhibition-Conference-2026.png
END:VEVENT
END:VCALENDAR