BEGIN:VCALENDAR
VERSION:2.0
PRODID:-//Zephyr Project - ECPv6.15.20//NONSGML v1.0//EN
CALSCALE:GREGORIAN
METHOD:PUBLISH
X-WR-CALNAME:Zephyr Project
X-ORIGINAL-URL:https://zephyrproject.org
X-WR-CALDESC:Events for Zephyr Project
REFRESH-INTERVAL;VALUE=DURATION:PT1H
X-Robots-Tag:noindex
X-PUBLISHED-TTL:PT1H
BEGIN:VTIMEZONE
TZID:America/Los_Angeles
BEGIN:DAYLIGHT
TZOFFSETFROM:-0800
TZOFFSETTO:-0700
TZNAME:PDT
DTSTART:20190310T100000
END:DAYLIGHT
BEGIN:STANDARD
TZOFFSETFROM:-0700
TZOFFSETTO:-0800
TZNAME:PST
DTSTART:20191103T090000
END:STANDARD
BEGIN:DAYLIGHT
TZOFFSETFROM:-0800
TZOFFSETTO:-0700
TZNAME:PDT
DTSTART:20200308T100000
END:DAYLIGHT
BEGIN:STANDARD
TZOFFSETFROM:-0700
TZOFFSETTO:-0800
TZNAME:PST
DTSTART:20201101T090000
END:STANDARD
BEGIN:DAYLIGHT
TZOFFSETFROM:-0800
TZOFFSETTO:-0700
TZNAME:PDT
DTSTART:20210314T100000
END:DAYLIGHT
BEGIN:STANDARD
TZOFFSETFROM:-0700
TZOFFSETTO:-0800
TZNAME:PST
DTSTART:20211107T090000
END:STANDARD
BEGIN:DAYLIGHT
TZOFFSETFROM:-0800
TZOFFSETTO:-0700
TZNAME:PDT
DTSTART:20220313T100000
END:DAYLIGHT
BEGIN:STANDARD
TZOFFSETFROM:-0700
TZOFFSETTO:-0800
TZNAME:PST
DTSTART:20221106T090000
END:STANDARD
END:VTIMEZONE
BEGIN:VEVENT
DTSTART;VALUE=DATE:20210721
DTEND;VALUE=DATE:20210722
DTSTAMP:20260420T121124
CREATED:20210703T083414Z
LAST-MODIFIED:20210703T083414Z
UID:10000019-1626825600-1626911999@zephyrproject.org
SUMMARY:RISC-V FORUM (Embedded Technologies)
DESCRIPTION:RISC-V Forum Embedded Technologies\, which will be hosted virtually on July 21 (China Standard Time)\, bring together experts for 3 hours of deep-dive presentations\, hands-on learning\, and networking with technical enthusiasts in the RISC-V ecosystem. \nKate Stewart\, VP of Dependable Embedded Systems\, will be at the event to present “Safety + SBOMs + Zephyr RTOS.” With the time difference\, Kate will present on Tuesday\, July 20 at 6:25-6:45 pm PDT. \nSensors and actuators are going to need to communicate reliably with the edge devices and up to the cloud\, so more effective decisions can be made. Some of these devices are also going to have dependability and safety requirements associated with them. This session will provide a short overview of the Zephyr RTOS which was started 5 years ago\, with the goal of being a safe and secure RTOS for resource constrained devices. There will be a focus on SBOMs and how Zephyr can generate the SBOM during the build\, and take it to the source file level\, not just the component level\, better diagnosis and detection of vulnerable states is possible and addresses some of the best practices mentioned in the EO. Therefore\, the development process becomes easier\, more efficient and improves maintainability in field. \nLearn more and register for the event here: https://events.linuxfoundation.org/riscv-forum-embedded-technologies/ \n  \n 
URL:https://zephyrproject.org/event/risc-v-forum-embedded-technologies/
CATEGORIES:Industry Conference
END:VEVENT
BEGIN:VEVENT
DTSTART;VALUE=DATE:20210629
DTEND;VALUE=DATE:20210701
DTSTAMP:20260420T121124
CREATED:20210625T062708Z
LAST-MODIFIED:20210625T062708Z
UID:10000018-1624924800-1625097599@zephyrproject.org
SUMMARY:The Industrial AI Summit
DESCRIPTION:On June 29-30\, join the virtual Industrial AI Summit\, the go-to forum for industrial organizations looking to supercharge their AI strategy. \nBringing together senior business and technology decision-makers from across industrial sectors\, the Industrial AI Summit will champion transformational initiatives\, lay the foundations for partnerships\, and help to create meaningful connections across various manufacturing sectors. \nFrom preventing disruptions and downtime\, to improving inventory management and product quality\, and even industrial robots; The Industrial AI Summit will demonstrate how artificial intelligence and machine learning are essential tools in future-proofing industrial operations. \nThe Zephyr Project is a proud sponsor of the event. To learn more about it or to register\, click here: https://industrial.theaisummit.com/.
URL:https://zephyrproject.org/event/the-industrial-ai-summit/
CATEGORIES:Industry Conference
END:VEVENT
BEGIN:VEVENT
DTSTART;VALUE=DATE:20210428
DTEND;VALUE=DATE:20210430
DTSTAMP:20260420T121124
CREATED:20201216T141942Z
LAST-MODIFIED:20201216T141942Z
UID:10000008-1619568000-1619740799@zephyrproject.org
SUMMARY:Embedded IoT World
DESCRIPTION:Embedded IoT World  is a virtual event on April 28 – 29 that is designed for developers\, architects\, engineers\, and technicians building end-to-end IoT solutions. The embedded community will have the opportunity to join technical workshops\, roundtables\, and speaker Q&A covering key topics: AI & ML\, Security\, Edge Computing\, Industrial IoT\, Connectivity\, and Processors/Enablement. Delivered by industry experts\, conference sessions will help you design and develop embedded systems to fuel the future of IoT. \nThe Zephyr Project is a partner of Embedded IoT World. Additionally\, a few members of the project on the advisory council including Kate Stewart\, Senior Director of Strategic Programs at the Linux Foundation\, and Frederic Desbiens\, Program Manager for IoT and Edge Computing at the Eclipse Foundation. Zephyr will also have a few presentations at the show. \nWednesday\, April 28:  \n9:15 am –Pushing the open edge machine learning ecosystem forward with RISC-V\, Zephyr\, TensorFlow Lite Micro and Renode (Michael Gielda (Antmicro)\, Tim Ansell (Google)\, Kate Stewart\, Brian Faith (QuickLogic) \nThe keynote panel will feature representatives of Google\, Zephyr Project\, QuickLogic\, STMicroelectronics and Antmicro in a discussion of how the strengths of RISC-V\, Zephyr RTOS\, TensorFlow Lite and Renode can be combined to provide innovative\, collaborative\, software-driven and traceable ML development for the very edge\, also on the hardware level\, e.g. using FPGAs or RISC-V custom extensions. The participants will discuss modern testing methodologies and HW-SW co-development enabled by the Renode simulation framework – as used by e.g. Google’s TF Lite Team – unlocking efficient and deterministically testable ML development on platforms including RISC-V. \nOther hot topics will include open source FPGA tools and Renode support for the Core-V MCU\, recent developments concerning TensorFlow Lite Micro\, RISC-V joining the Zephyr Project and the ML-oriented\, EU-funded VEDLIoT project involving RISC-V and Renode. \n10:50 am – Processors & Instruction-Set Architecture Opening Remarks\, Kate Stewart \n1:35 pm – Processors & Enablement Speaker Q&A Room\, Kate Stewart \n3:10 pm – Panel Discussion – Safety certification in the open: How the Xen project is making progress to achieve certification\, Kate Stewart\, Stefano Stabellini (Xylinx)\, George Dunlap (The Xen Project) and Artem Mygaiev (EPAM) \nSafety certification is one of the essential requirements for software to be used in highly regulated industries. Besides technical and compliance issues (such as ISO 26262 vs IEC 61508\,) transitioning an existing project to become more easily safety certifiable requires significant changes to development practices within an open source project. In this session\, we will lay out some challenges of making safety certification achievable in open source. We will be offering an in-depth review of how Xen Project is approaching these challenges and try to derive lessons for other projects and contributors. \n4:45 pm – Device Security & Safety Speaker Q&A Room\, Kate Stewart\, Stefano Stabellini (Xylinx)\, George Dunlap (The Xen Project) and Stephen Olsen (BlackBerry QNX) \nThursday\, April 29: \n9:15 am: Panel Discussion – The relationship between connectivity\, edge computing\, AI and machine learning in embedded systems\, Barna Ibrahim (Google)\, Jim White (IOTech)\, Colleen Josephson (Stanford University)\, Aditya Kumar (Facebook) and Edoardo Gallizio (STMicroelectronics).  \n\nDiscover how definitions for edge computing will continue to evolve and the impact this will have on engineers building embedded systems for the edge\nUnderstanding the vast array of connectivity options to tailor your device build so the tech will run smoothly as well as looking at which option fits best\nDive into AI at the edge: A look at the different types of hardware AI accelerators\n\nFor more information about the conference\, visit the main conference page. \n 
URL:https://zephyrproject.org/event/embedded-iot-world/
CATEGORIES:Industry Conference
END:VEVENT
BEGIN:VEVENT
DTSTART;VALUE=DATE:20210413
DTEND;VALUE=DATE:20210415
DTSTAMP:20260420T121124
CREATED:20210406T114115Z
LAST-MODIFIED:20210406T114115Z
UID:10000015-1618272000-1618444799@zephyrproject.org
SUMMARY:The Frontier Conference 2021
DESCRIPTION:On April 13-14\, The Frontier Conference will bring in a global community of thought leaders across industry sectors cross-pollinating to solve some of the world’s biggest problems. The Frontier Conference grants access for your organization to connect with and get your brand in front of industry thought leaders\, movers and shakers who can bring you into the fold of the worldwide innovation space. \nThe Zephyr Project will be represented by Kate Stewart\, Vice President of Dependable Embedded Systems at The Linux Foundation. Kate will be speaking on a panel on April 13 at 7-7:45 am PST/ 9-9:45 am CST titled\, “The Importance of People and Trust in Scaling Connected Systems.” She’ll be joined by Bob Mazer\, Roy Timor-Rousso\, CRO at JpU.io\, and Jason Shepherd\, VP of Ecosystems at ZEDEDA\, will be moderating the session. \nZephyr is also media partner of the conference – if you would like to attend\, use code “FR21LF10” for a 10% discount. Register for the conference here. \nTo learn more about the conference\, visit the main conference page: https://www.thefrontier.co/. \n 
URL:https://zephyrproject.org/event/the-frontier-conference-2021/
CATEGORIES:Industry Conference
END:VEVENT
BEGIN:VEVENT
DTSTART;VALUE=DATE:20210301
DTEND;VALUE=DATE:20210306
DTSTAMP:20260420T121124
CREATED:20201216T135417Z
LAST-MODIFIED:20201216T135417Z
UID:10000007-1614556800-1614988799@zephyrproject.org
SUMMARY:Embedded World
DESCRIPTION:Embedded World\, which takes place digitally on March 1-5\, 2021\, combine the best features of the trade fair and conference program in the virtual space. Last year\, at Embedded World 2020\, more than 900 exhibitors from 42 countries and more than 1500 attendees presented the entire value chain for embedded system technologies. The conference is expecting even more attendees and exhibitors for the 2021 conference. \nThe Zephyr Project has attended and exhibited the conference for three years in a row\, except for 2020. The project will be at the 2021 conference with a booth as well as several member and community booths. Stay tuned here for more details. \nZephyr members RISC-V (Antmicro will exhibit at their booth)\, Nordic Semiconductor and NXP will also be at the event. Stop by their booths to see their latest products and solutions as well as speak with developers\, ambassadors and Zephyr community members. \nTo register for the event or to check out the agenda\, visit the Embedded World main conference page. \n 
URL:https://zephyrproject.org/event/embedded-world/
CATEGORIES:Industry Conference
END:VEVENT
BEGIN:VEVENT
DTSTART;VALUE=DATE:20210111
DTEND;VALUE=DATE:20210115
DTSTAMP:20260420T121124
CREATED:20201216T134325Z
LAST-MODIFIED:20201216T134325Z
UID:10000006-1610323200-1610668799@zephyrproject.org
SUMMARY:CES
DESCRIPTION:CES\, which takes place digitally on January 11-14\, 2021\, is the world’s gathering place for all who thrive on the business of consumer technologies. A high-level business event that touches all industries\, it’s the place where business gets done. CES is where every major technology company participates in some way — by exhibiting\, speaking\, sponsoring\, attending or holding business meetings. \nThe Zephyr Project will be at the event for the first-time ever. Stay tuned here for more details about which members will be on-site to answer questions and which boards and products will be showcased. If you have questions\, email info@www.zephyrproject.org. \n \n \nTo register for the event\, visit the main CES website. \n 
URL:https://zephyrproject.org/event/ces/
CATEGORIES:Industry Conference
END:VEVENT
BEGIN:VEVENT
DTSTART;VALUE=DATE:20201208
DTEND;VALUE=DATE:20201211
DTSTAMP:20260420T121124
CREATED:20201108T083844Z
LAST-MODIFIED:20201108T083844Z
UID:10000005-1607385600-1607644799@zephyrproject.org
SUMMARY:(Virtual) RISC-V Summit
DESCRIPTION:  \nThe 3rd annual RISC-V Summit on December 8-10 will highlight the continued rapid expansion of the RISC-V ecosystem\, presenting both commercial offerings and exciting open-source developments. The comprehensive 100% virtual event will feature keynotes from industry pioneers as well as thought-provoking panel discussions. Network with thought-leaders\, technology companies\, and researchers spearheading the adoption of this evolutionary change in the silicon market. To see the complete schedule\, visit the main conference page: https://tmt.knect365.com/risc-v-summit/. \nJoin us for the Keynote Presentation on December 8 at 10 am:  Building an Open Edge Machine Learning Ecosystem with RISC-V\, Zephyr\, TensorFlow Lite Micro and Renode \n\nBy moving closer to the edge\, machine learning is profoundly changing the IoT landscape\, where RISC-V is already seeing immense success. To be able to fully capitalize on the opportunities that arise from this trend\, as well as tackle the related challenges\, various communities must come together to create an open ecosystem of modern tools\, frameworks and platforms that together will constitute a seamless environment for developers to build advanced ML applications on RISC-V. \nThe keynote panel will feature Tim Ansell (Google)\, Kate Stewart (Zephyr Project)\, Brian Faith (QuickLogic) and Michael Gielda (Antmicro) in a discussion of how the strengths of RISC-V\, Zephyr RTOS\, TensorFlow Lite and Renode can be combined to provide collaborative\, software-driven\, traceable ML development for the very edge. The participants will discuss how the vendor-neutral approach of RISC-V resonates with the foundational principles of the Zephyr RTOS and the Renode simulation framework\, and how TensorFlow Lite Micro can leverage the open ISA and its tools to innovate in the ML domain also on the hardware level\, e.g. using FPGAs or custom extensions. The discussion will also touch upon modern testing methodologies and HW-SW co-development enabled by Renode – already employed by Zephyr\, Google’s TF Lite Team and QuickLogic – enabling efficient\, deterministically testable ML development on RISC-V. \n\n \n\nRegister for the conference here.
URL:https://zephyrproject.org/event/virtual-risc-v-summit/
CATEGORIES:Industry Conference
END:VEVENT
END:VCALENDAR