BEGIN:VCALENDAR
VERSION:2.0
PRODID:-//Zephyr Project - ECPv6.15.20//NONSGML v1.0//EN
CALSCALE:GREGORIAN
METHOD:PUBLISH
X-WR-CALNAME:Zephyr Project
X-ORIGINAL-URL:https://zephyrproject.org
X-WR-CALDESC:Events for Zephyr Project
REFRESH-INTERVAL;VALUE=DURATION:PT1H
X-Robots-Tag:noindex
X-PUBLISHED-TTL:PT1H
BEGIN:VTIMEZONE
TZID:UTC
BEGIN:STANDARD
TZOFFSETFROM:+0000
TZOFFSETTO:+0000
TZNAME:UTC
DTSTART:20230101T000000
END:STANDARD
END:VTIMEZONE
BEGIN:VEVENT
DTSTART;TZID=UTC:20241009T173000
DTEND;TZID=UTC:20241009T193000
DTSTAMP:20260424T025054
CREATED:20240826T094300Z
LAST-MODIFIED:20240923T101546Z
UID:10000113-1728495000-1728502200@zephyrproject.org
SUMMARY:Zephyr Project meetup: Austin\, Texas
DESCRIPTION:Join the Zephyr community meetup on October 9\, 2024 from 5:30 pm -7:30 pm! Hosted by NXP Semiconductors in Austin\, Texas\, this gathering is for anyone who’s curious about Open Source\, Embedded Systems Programming\, and Software Development. There will be presentations based on products running Zephyr\, subsystems and features you might not have heard of yet.  Expand your network and delve deep into the realm of dependable\, low-power embedded systems. Whether you’re an experienced expert or just stepping into these fascinating areas\, this meetup provides the perfect platform for everyone! \nCheck here to learn more about the agenda and the registration.
URL:https://zephyrproject.org/event/zephyr-project-meetup-austin-texas-2/
LOCATION:Capitol Factory\, 701 Brazos St\, Austin\, Texas\, TX\, 78701\, United States
CATEGORIES:Meetup,Member Event
ATTACH;FMTTYPE=image/png:https://zephyrproject.org/wp-content/uploads/2024/08/Zephyr-meetup-general-Austin-Texas-October-9-2024-1.png
END:VEVENT
BEGIN:VEVENT
DTSTART;TZID=UTC:20241017T173000
DTEND;TZID=UTC:20241017T210000
DTSTAMP:20260424T025054
CREATED:20240814T140040Z
LAST-MODIFIED:20240814T141901Z
UID:10000106-1729186200-1729198800@zephyrproject.org
SUMMARY:Zephyr Project meetup: Hamburg\, Germany
DESCRIPTION:Join us for the Zephyr Project on Thursday\, October 17\, 2024\, from 5:30 – 9:00 pm CEST! \nThe event will be hosted at ZAL Zentrum für Angewandte Luftfahrtforschung\, located at Hein-Sass-Weg 22\, 21129 Hamburg. \nArrive early for a special Guided Tour at ZAL from 4:30 – 5:30 pm\, showcasing cutting-edge advancements in aerospace research. \nThe meetup will feature engaging presentations and discussions on the latest in Open Source\, Embedded Systems Programming\, and Software Development. \nCheck here for more information about agenda and registration. \n 
URL:https://zephyrproject.org/event/zephyr-project-meetup-hamburg-germany/
CATEGORIES:Meetup
ATTACH;FMTTYPE=image/png:https://zephyrproject.org/wp-content/uploads/2024/08/Zephyr-meetup-Hamburg-Germany.png
END:VEVENT
END:VCALENDAR