BEGIN:VCALENDAR
VERSION:2.0
PRODID:-//Zephyr Project - ECPv6.15.20//NONSGML v1.0//EN
CALSCALE:GREGORIAN
METHOD:PUBLISH
X-WR-CALNAME:Zephyr Project
X-ORIGINAL-URL:https://zephyrproject.org
X-WR-CALDESC:Events for Zephyr Project
REFRESH-INTERVAL;VALUE=DURATION:PT1H
X-Robots-Tag:noindex
X-PUBLISHED-TTL:PT1H
BEGIN:VTIMEZONE
TZID:UTC
BEGIN:STANDARD
TZOFFSETFROM:+0000
TZOFFSETTO:+0000
TZNAME:UTC
DTSTART:20230101T000000
END:STANDARD
END:VTIMEZONE
BEGIN:VEVENT
DTSTART;TZID=UTC:20241112T163000
DTEND;TZID=UTC:20241112T220000
DTSTAMP:20260424T015156
CREATED:20240912T135124Z
LAST-MODIFIED:20240912T135903Z
UID:10000119-1731429000-1731448800@zephyrproject.org
SUMMARY:Zephyr Project meetup: Aarhus\, Denmark
DESCRIPTION:Join us for an evening of insightful talks and networking opportunities with industry professionals. This event is perfect for anyone interested in expanding their knowledge and making valuable connections. If you want to delve deeper into Zephyr development this event will provide you with different perspectives on how to work with the Zephyr platform. \nDon’t miss this chance to enhance your expertise and grow your professional network! \nWhen: Tuesday 12th November 2024 – from 16.30 – 22.00 \nWhere: Mjølner Informatics‘ canteen: Valhal Finlandsgade 10 8200 Aarhus N \nParticipants: Product Owners\, IT managers\, Project Managers\, Scum Masters\, User Experience-designers\, Product Managers\, Architects\, Software Developers\, Quality Assurance Managers. \nCatering during the event: Snacks during the day and sandwiches and beers in the evening. \nLearn more about the agenda and register now.
URL:https://zephyrproject.org/event/zephyr-project-meetup-aarhus-denmark/
CATEGORIES:Meetup,Member Event
ATTACH;FMTTYPE=image/png:https://zephyrproject.org/wp-content/uploads/2024/09/unnamed-2.png
END:VEVENT
BEGIN:VEVENT
DTSTART;TZID=UTC:20241121T180000
DTEND;TZID=UTC:20241121T220000
DTSTAMP:20260424T015156
CREATED:20241030T135758Z
LAST-MODIFIED:20241101T145908Z
UID:10000122-1732212000-1732226400@zephyrproject.org
SUMMARY:Zephyr Project Meetup: Zürich\, Switzerland
DESCRIPTION:Welcome to the Zephyr Project in-person meetup in Zürich\, Switzerland! \nThis gathering is for anyone who’s curious about Open Source\, Embedded Systems Programming\, and Software Development.\nThere will be presentations based on products running Zephyr\, subsystems and features you might not have heard of yet. \nExpand your network and delve deep into the realm of dependable\, low-power embedded systems. Whether you’re an experienced expert or just stepping into these fascinating areas\, this meetup provides the perfect platform for everyone! \nOur primary language for group communication and events is English\, and we warmly welcome individuals from all backgrounds. Seats are limited\, and we kindly request you to register soon to secure your spot. \nNote: This meetup is part of the Zephyr Community Meetup Series\, gatherings hosted by community members\, with support from the Zephyr Project. \nTo learn more about the agenda and register\, please check here.
URL:https://zephyrproject.org/event/zephyr-project-meetup-zurich-switzerland/
LOCATION:gardena digital hub\, Räffelstrasse 26\, Zürich\, 8045\, Switzerland
CATEGORIES:Meetup
ATTACH;FMTTYPE=image/png:https://zephyrproject.org/wp-content/uploads/2024/10/Zephyr-meetup-general-Zurich-Switzerland-November-21-2024-.png
END:VEVENT
BEGIN:VEVENT
DTSTART;TZID=UTC:20241127T174500
DTEND;TZID=UTC:20241127T203000
DTSTAMP:20260424T015156
CREATED:20241030T132729Z
LAST-MODIFIED:20241104T094430Z
UID:10000121-1732729500-1732739400@zephyrproject.org
SUMMARY:Hands-on Workshop "Bring up YOUR own Board" mit Zephyr
DESCRIPTION:Join us on November 27\, 2024\, for our third in-person Meetup at Navimatix GmbH in Jena\, Germany. \nThe Meetup is an excellent chance to connect with Zephyr experts and enthusiasts active in medical technology\, automotive\, industrial\, and measurement fields. After a brief introduction\, we’ll dive into a hands-on workshop where you can bring your own custom hardware to perform an initial Zephyr porting. Gain practical experience with Zephyr tools like Devicetree\, Kconfig\, and CMake\, and address real-world challenges in porting Zephyr to new hardware. \nDon’t have your own hardware? No problem! We have evaluation hardware available for you to use. \nWho Should Attend: \n\nExperienced embedded developers\nNewcomers and career changers\nSoftware and system architects\nAnyone curious about new and exciting software technologies\n\nWhat You’ll Need: \n\nLaptop\nYour hardware with power supply (and any necessary SWD/JTAG adapters)\n\nSchedule Highlights: \n\n5:45 PM Doors Open\n6:00 PM Welcome & Introduction\n6:10 PM Discussion on Zephyr and Bridle\n6:30 PM Hands-on Workshop\n8:15 PM Networking with Pizza & Drinks\n8:30 PM Wrap-up\n\nLearn more here. \nPlease note that all sessions will be conducted in German. \nLimited to 15 participants\, so reserve your spot soon! \nLocation: \nNavimatix GmbH\nTatzendpromenade 2\, 3rd Floor\n07745 Jena \nRegister here.
URL:https://zephyrproject.org/event/hands-on-workshop-bring-up-your-own-board-mit-zephyr/
CATEGORIES:Meetup,Training,Workshop
ATTACH;FMTTYPE=image/webp:https://zephyrproject.org/wp-content/uploads/2024/10/600_524210386-1.webp
END:VEVENT
END:VCALENDAR