BEGIN:VCALENDAR
VERSION:2.0
PRODID:-//Zephyr Project - ECPv6.15.20//NONSGML v1.0//EN
CALSCALE:GREGORIAN
METHOD:PUBLISH
X-WR-CALNAME:Zephyr Project
X-ORIGINAL-URL:https://zephyrproject.org
X-WR-CALDESC:Events for Zephyr Project
REFRESH-INTERVAL;VALUE=DURATION:PT1H
X-Robots-Tag:noindex
X-PUBLISHED-TTL:PT1H
BEGIN:VTIMEZONE
TZID:UTC
BEGIN:STANDARD
TZOFFSETFROM:+0000
TZOFFSETTO:+0000
TZNAME:UTC
DTSTART:20240101T000000
END:STANDARD
END:VTIMEZONE
BEGIN:VEVENT
DTSTART;TZID=UTC:20250306T173000
DTEND;TZID=UTC:20250306T203000
DTSTAMP:20260423T202443
CREATED:20250221T151218Z
LAST-MODIFIED:20250221T151218Z
UID:10000133-1741282200-1741293000@zephyrproject.org
SUMMARY:Meet Zephyr – Hands-on Workshop "Bring up YOUR own Board" mit Zephyr
DESCRIPTION:Das Meetup am 06.03.2025 in Erlangen wird euch eine hervorragende Möglichkeit bieten\, sich mit Zephyr Experten & Enthusiasten mit Praxisbezug zu Medizintechnik\, Automobilbau\, Industrie- und Messtechnik auszutauschen und wertvolle Kontakte zu knüpfen. \nNach der Begrüßung und einer kurzen Einleitung wird HANDS-ON wieder der Leitgedanke des Abends sein: \nIhr habt die Gelegenheit\, eure eigene “kundenspezifische” Hardware mitzubringen und mit uns zusammen eine erste Zephyr Portierung auf diese vorzunehmen. Ihr werdet dadurch praxistaugliche Erfahrungen im Umgang mit den für Zephyr typischen Hilfsmitteln Devicetree\, Kconfig und CMake sammeln. Wir wollen\, dass ihr durch unsere technisch fundierte Begleitung eure zukünftige Arbeit mit Zephyr verbessern könnt und gehen gemeinsam mit euch durch tatsächliche Fragestellungen einer Zephyr-Portierung auf “neue” Hardware. Dazu zählen auch Tests und Funktionsnachweise. Eventuell hilft euch der Abend auch\, Bedenken gegenüber Zephyr im Speziellen und Open Source Technologie im Allgemeinen abzubauen. Nutzt die Chance für euch! \nAlternativ kann auch auf bei uns vorhandene Evaluierungs-Hardware zurückgegriffen werden\, wenn ihr gerade eure neue oder bestehende Hardware nicht griffbereit habt! \nMehr details hier.
URL:https://zephyrproject.org/event/meet-zephyr-hands-on-workshop-bring-up-your-own-board-mit-zephyr/
CATEGORIES:Meetup,Training,Workshop
ATTACH;FMTTYPE=image/jpeg:https://zephyrproject.org/wp-content/uploads/2025/02/600_526206042.jpg
END:VEVENT
BEGIN:VEVENT
DTSTART;TZID=UTC:20250326T170000
DTEND;TZID=UTC:20250326T210000
DTSTAMP:20260423T202443
CREATED:20250220T112323Z
LAST-MODIFIED:20250325T091023Z
UID:10000129-1743008400-1743022800@zephyrproject.org
SUMMARY:Zephyr Project meetup: Grenoble\, France
DESCRIPTION:Welcome to the Zephyr Project in-person meetup in Grenoble\, France! This gathering is for anyone who’s curious about Open Source\, Embedded Systems Programming\, and Software Development. This event will be held at Schneider Electric office at Grenoble\, France with Schneider Electric generously sponsoring food and beverages for attendees. \nThere will be presentations based on products running Zephyr\, subsystems and features you might not have heard of yet. Additionally\, thanks to the support of STMicroelectronics\,  NXP Semiconductors and Nordic Semiconductor\, attendees will receive free development boards. \nExpand your network and delve deep into the realm of dependable\, low-power embedded systems. Whether you’re an experienced expert or just stepping into these fascinating areas\, this meetup provides the perfect platform for everyone! \nOur primary language for group communication and events is English\, and we warmly welcome individuals from all backgrounds. Seats are limited\, and we kindly request you to register soon to secure your spot. \nNote: This meetup is part of the Zephyr Community Meetup Series\, gatherings hosted by community members\, with support from the Zephyr Project. \nThank you to everyone who submitted proposals for the upcoming in-person Zephyr Project Meetup! The Call for Proposals is now closed\, and we’re excited to share that the agenda has been published. \nCheck out the full lineup of talks\, demos\, and sessions here. \nWe look forward to seeing you there \nRegistration is required for this meetup. Check here for registration details and agenda.
URL:https://zephyrproject.org/event/zephyr-project-meetup-grenoble-france/
CATEGORIES:Meetup
ATTACH;FMTTYPE=image/png:https://zephyrproject.org/wp-content/uploads/2025/02/Zephyr-meetup-general-Grenoble-France-March-26-2025-2.png
END:VEVENT
BEGIN:VEVENT
DTSTART;TZID=UTC:20250328T180000
DTEND;TZID=UTC:20250328T210000
DTSTAMP:20260423T202443
CREATED:20250220T111022Z
LAST-MODIFIED:20250326T131206Z
UID:10000128-1743184800-1743195600@zephyrproject.org
SUMMARY:Zephyr Project Meetup: Shanghai\, China
DESCRIPTION:Welcome to the Zephyr Project in-person meetup in Shanghai\, China! This gathering is for anyone who’s curious about Open Source\, Embedded Systems Programming\, and Software Development. This event will be held at NXP office at Shanghai\, China with NXP generously sponsoring food and beverages for attendees. \nThere will be presentations based on products running Zephyr\, subsystems and features you might not have heard of yet. \nExpand your network and delve deep into the realm of dependable\, low-power embedded systems. Whether you’re an experienced expert or just stepping into these fascinating areas\, this meetup provides the perfect platform for everyone! \nOur primary language for group communication and events is Mandarin for this event\, and we warmly welcome individuals from all backgrounds. Seats are limited\, and we kindly request you to register soon to secure your spot. \nNote: This meetup is part of the Zephyr Community Meetup Series\, gatherings hosted by community members\, with support from the Zephyr Project. \nThank you to everyone who submitted proposals for the upcoming in-person Zephyr Project Meetup at Shanghai\, China! The Call for Proposals is now closed\, and we’re excited to share that the agenda has been published. \nCheck out the full lineup of talks\, demos\, and sessions here. \nWe look forward to seeing you there \nRegistration is required for this meetup. Check here for registration details.
URL:https://zephyrproject.org/event/zephyr-project-meetup-shanghai-china/
CATEGORIES:Meetup
ATTACH;FMTTYPE=image/png:https://zephyrproject.org/wp-content/uploads/2025/02/Zephyr-project-meetup-general-social-card-Shanghai-China-March-28-2025.png
END:VEVENT
END:VCALENDAR