BEGIN:VCALENDAR
VERSION:2.0
PRODID:-//Zephyr Project - ECPv6.15.20//NONSGML v1.0//EN
CALSCALE:GREGORIAN
METHOD:PUBLISH
X-ORIGINAL-URL:https://zephyrproject.org
X-WR-CALDESC:Events for Zephyr Project
REFRESH-INTERVAL;VALUE=DURATION:PT1H
X-Robots-Tag:noindex
X-PUBLISHED-TTL:PT1H
BEGIN:VTIMEZONE
TZID:UTC
BEGIN:STANDARD
TZOFFSETFROM:+0000
TZOFFSETTO:+0000
TZNAME:UTC
DTSTART:20240101T000000
END:STANDARD
END:VTIMEZONE
BEGIN:VEVENT
DTSTART;TZID=UTC:20250605T170000
DTEND;TZID=UTC:20250605T210000
DTSTAMP:20260423T155521
CREATED:20250425T074728Z
LAST-MODIFIED:20250425T091712Z
UID:10000149-1749142800-1749157200@zephyrproject.org
SUMMARY:Zephyr Project Meetup: Vienna\, Austria
DESCRIPTION:Welcome to the Zephyr Project in-person meetup in Vienna\, Austria! This gathering is for anyone who’s curious about Open Source\, Embedded Systems Programming\, and Software Development. This evening event will be held the Expat Center of the Vienna Business Agency located at Schmerlingplatz 3\, 1010 Vienna\, Austria. \nThere will be presentations based on products running Zephyr\, subsystems and features you might not have heard of yet. \nExpand your network and delve deep into the realm of dependable\, low-power embedded systems. Whether you’re an experienced expert or just stepping into these fascinating areas\, this meetup provides the perfect platform for everyone! \nOur primary language for group communication and events is English\, and we warmly welcome individuals from all backgrounds. Seats are limited\, and we kindly request you to register soon to secure your spot. \nNote: This meetup is part of the Zephyr Community Meetup Series\, gatherings hosted by community members\, with support from the Zephyr Project. \nCall for Proposals Now Open for Zephyr Project Meetup!\nWe are now accepting proposals for technical presentations at the upcoming in person Zephyr Project meetup! If you have a presentation to share\, please submit your talk abstract using the form here. \nCFP submission closes at 11:59 pm CET on June 1\, 2025. \nWe look forward to your insights and contributions! \nRegistration is required for this meetup. Check here for registration details and agenda.
URL:https://zephyrproject.org/event/zephyr-project-meetup-vienna-austria/
CATEGORIES:Meetup
ATTACH;FMTTYPE=image/png:https://zephyrproject.org/wp-content/uploads/2025/04/Zephyr-project-meetup-Vienna-Austria-June-5-2025.png
END:VEVENT
BEGIN:VEVENT
DTSTART;TZID=UTC:20250623T174500
DTEND;TZID=UTC:20250623T203000
DTSTAMP:20260423T155521
CREATED:20250619T160651Z
LAST-MODIFIED:20250619T160651Z
UID:10000154-1750700700-1750710600@zephyrproject.org
SUMMARY:Zephyr Project Hands on Workshop
DESCRIPTION:Join us for a hands on Zephyr Project workshop hosted by the community at Garmin’s new development center on the Skyline Hill campus! This interactive session is perfect for newcomers and curious minds exploring embedded development. \nLed by Stephan Linz (Navimatix GmbH) and Tobias Kästner (inovex GmbH) maintainers of the Bridle project you will get practical experience with Zephyr RTOS through guided tutorials and real hardware. \nLearn more about the event and register here. \n 
URL:https://zephyrproject.org/event/zephyr-project-hands-on-workshop/
CATEGORIES:Meetup,Workshop
ATTACH;FMTTYPE=image/jpeg:https://zephyrproject.org/wp-content/uploads/2025/06/highres_528322813.jpg
END:VEVENT
END:VCALENDAR