BEGIN:VCALENDAR
VERSION:2.0
PRODID:-//Zephyr Project - ECPv6.15.20//NONSGML v1.0//EN
CALSCALE:GREGORIAN
METHOD:PUBLISH
X-ORIGINAL-URL:https://zephyrproject.org
X-WR-CALDESC:Events for Zephyr Project
REFRESH-INTERVAL;VALUE=DURATION:PT1H
X-Robots-Tag:noindex
X-PUBLISHED-TTL:PT1H
BEGIN:VTIMEZONE
TZID:UTC
BEGIN:STANDARD
TZOFFSETFROM:+0000
TZOFFSETTO:+0000
TZNAME:UTC
DTSTART:20240101T000000
END:STANDARD
END:VTIMEZONE
BEGIN:VEVENT
DTSTART;TZID=UTC:20251027T170000
DTEND;TZID=UTC:20251027T213000
DTSTAMP:20260423T095526
CREATED:20250918T092141Z
LAST-MODIFIED:20251024T093925Z
UID:10000170-1761584400-1761600600@zephyrproject.org
SUMMARY:Zephyr Project Meetup (October 27\, 2025) – Seville\, Spain
DESCRIPTION:Welcome to the Zephyr Project in-person meetup in Seville\, Spain! This gathering is for anyone who’s curious about Open Source\, Embedded Systems Programming\, and Software Development. This evening event is hosted by Microchip Technology. \nThis meetup takes place the day before the European Microchip MASTERs 2025 Conference (Oct 28–30\, Seville)\, giving attendees a great chance to join both events.The European Microchip MASTERs 2025 Conference will be held October 28–30 in Seville\, Spain\, offering premier technical training for embedded control engineers. Now in its 25th year\, the event brings engineers together with Microchip experts to explore the latest technologies\, tackle design challenges\, and exchange practical solutions. \nYou can find the location details in this map here. \nThere will be presentations based on products running Zephyr\, subsystems and features you might not have heard of yet. \nExpand your network and delve deep into the realm of dependable\, low-power embedded systems. Whether you’re an experienced expert or just stepping into these fascinating areas\, this meetup provides the perfect platform for everyone! \nOur primary language for group communication and events is English\, and we warmly welcome individuals from all backgrounds. Seats are limited\, and we kindly request you to register soon to secure your spot. \nCFP submissions for this meetup are closed now. \nCheck out this pre-event blog: What to expect at the Zephyr Project Meetup (October 27\, 2025) – Seville\, Spain \nNote: This meetup is part of the Zephyr Community Meetup Series\, gatherings hosted by community members\, with support from the Zephyr Project. \nRegistration is required for this meetup. \nRegister for the meetup here. \nIf you have any questions related to this meetup\, please send your enquiry to meetups@zephyrproject.org
URL:https://zephyrproject.org/event/zephyr-project-meetup-october-27-2025-sevilla-spain/
CATEGORIES:Ambassador Speaking,Meetup
ATTACH;FMTTYPE=image/png:https://zephyrproject.org/wp-content/uploads/2025/09/Zephyr-Project-meetup-Seville-Spain-October-27-2025-2.png
END:VEVENT
BEGIN:VEVENT
DTSTART;TZID=UTC:20251028T160000
DTEND;TZID=UTC:20251028T210000
DTSTAMP:20260423T095526
CREATED:20250612T215751Z
LAST-MODIFIED:20250925T202709Z
UID:10000153-1761667200-1761685200@zephyrproject.org
SUMMARY:Zephyr Project Meetup: Copenhagen\, Denmark
DESCRIPTION:We are excited to invite you to the Zephyr Project at the Mjølner Informatics in Copenhagen on Tuesday\, 28 October 2025\, from 16:00 to 21:00 at Microsoft Offices\, Kanalvej 7\, 2800 Kgs. Lyngby. \nWhether you are a seasoned Zephyr RTOS developer or new to the platform\, this event offers the perfect opportunity to dive into the world of Zephyr with like-minded enthusiasts and industry experts. \nThe evening kicks off with networking and a booth area where you can meet fellow attendees and explore demos\, followed by a series of insightful talks covering everything from rapid prototyping and multi-source design strategies to security and hardware-agnostic solutions. \nThis meetup is ideal for product owners\, IT managers\, technical project managers\, scrum masters\, UX designers\, product managers\, architects\, and software developers who are eager to expand their Zephyr expertise and build valuable connections. \nParticipation is free\, but registration is required. Don’t miss your chance to learn how Mjølner leverages the Zephyr platform to deliver robust\, adaptable\, and secure prototyping solutions. \nRegister today and join us for an evening of knowledge sharing and community building! \nPlease note: CFPs for the Zephyr Project Meetup: Copenhagen\, Denmark are now closed\, and we thank everyone for the many excellent submissions received.
URL:https://zephyrproject.org/event/zephyr-project-meetup-copenhagen-denmark/
CATEGORIES:Meetup
ATTACH;FMTTYPE=image/png:https://zephyrproject.org/wp-content/uploads/2025/06/Barlow.png
END:VEVENT
END:VCALENDAR