BEGIN:VCALENDAR
VERSION:2.0
PRODID:-//Zephyr Project - ECPv6.15.20//NONSGML v1.0//EN
CALSCALE:GREGORIAN
METHOD:PUBLISH
X-WR-CALNAME:Zephyr Project
X-ORIGINAL-URL:https://zephyrproject.org
X-WR-CALDESC:Events for Zephyr Project
REFRESH-INTERVAL;VALUE=DURATION:PT1H
X-Robots-Tag:noindex
X-PUBLISHED-TTL:PT1H
BEGIN:VTIMEZONE
TZID:UTC
BEGIN:STANDARD
TZOFFSETFROM:+0000
TZOFFSETTO:+0000
TZNAME:UTC
DTSTART:20240101T000000
END:STANDARD
END:VTIMEZONE
BEGIN:VEVENT
DTSTART;TZID=UTC:20251105T170000
DTEND;TZID=UTC:20251105T193000
DTSTAMP:20260423T082801
CREATED:20250918T095908Z
LAST-MODIFIED:20251030T131226Z
UID:10000171-1762362000-1762371000@zephyrproject.org
SUMMARY:Zephyr Project Meetup (November 5\, 2025) – Anaheim\, California
DESCRIPTION:Welcome to the Zephyr Project in-person meetup in Anaheim\, California! This gathering is for anyone who’s curious about Open Source\, Embedded Systems Programming\, and Software Development. \nThere will be presentations based on products running Zephyr\, subsystems and features you might not have heard of yet. \nExpand your network and delve deep into the realm of dependable\, low-power embedded systems. Whether you’re an experienced expert or just stepping into these fascinating areas\, this meetup provides the perfect platform for everyone! \nThanks to Qt and Antmicro for sponsoring the meetup venue\, and to NXP\, Renesas\, and Infineon for supporting the event with giveaway boards. If you’re attending Embedded World North America the global platform for embedded systems innovation you can easily join this meetup onsite at Room 213D\, Embedded World North America\, Anaheim Convention Center. \n📍 About Embedded World: With over 20 years of history in Europe\, Embedded World has become the global platform for embedded systems innovation\, connecting developers\, system architects\, product managers\, and industry leaders. The new North America edition offers unparalleled access to technologies across AI\, IoT\, automotive\, medical\, and industrial control. \nOur primary language for group communication and events is English\, and we warmly welcome individuals from all backgrounds. Seats are limited\, and we kindly request you to register soon to secure your spot. \nCFP submissions for this meetup are closed now. \nNote: This meetup is part of the Zephyr Community Meetup Series\, gatherings hosted by community members\, with support from the Zephyr Project. \nRegistration is required for this meetup. \nRegister for the meetup here. \nTo learn more about the agenda\, check out our recent blog: What to expect at the Zephyr Project Meetup (November 5\, 2025) – Anaheim\, California \nIf you have any questions related to this meetup\, please send your enquiry to meetups@zephyrproject.org
URL:https://zephyrproject.org/event/zephyr-project-meetup-november-5-2025-anaheim-california/
CATEGORIES:Ambassador Speaking,Meetup
ATTACH;FMTTYPE=image/png:https://zephyrproject.org/wp-content/uploads/2025/09/Zephyr-Project-Meetup-@-Embedded-World-North-America-November-52025.png
END:VEVENT
BEGIN:VEVENT
DTSTART;TZID=UTC:20251120T170000
DTEND;TZID=UTC:20251120T213000
DTSTAMP:20260423T082801
CREATED:20251023T192610Z
LAST-MODIFIED:20251111T181946Z
UID:10000174-1763658000-1763674200@zephyrproject.org
SUMMARY:Zephyr Project Meetup (November 20\, 2025) – Garching\, Munich\, Germany
DESCRIPTION:Welcome to the Zephyr Project in-person meetup in Garching\, Munich\, Germany! This gathering is for anyone who’s curious about Open Source\, Embedded Systems Programming\, and Software Development. This evening event will be held at Siemens Technology Center Garching located in: Friedrich-Ludwig-Bauer-Straße 3\, 85748 Garching bei München \nYou can find the location details in this map here. \nThere will be presentations based on products running Zephyr\, subsystems and features you might not have heard of yet. \nExpand your network and delve deep into the realm of dependable\, low-power embedded systems. Whether you’re an experienced expert or just stepping into these fascinating areas\, this meetup provides the perfect platform for everyone! \nOur primary language for group communication and events is English\, and we warmly welcome individuals from all backgrounds. Seats are limited\, and we kindly request you to register soon to secure your spot. \nNote: This meetup is part of the Zephyr Community Meetup Series\, gatherings hosted by community members\, with support from the Zephyr Project. \nCurious to know about the agenda? Check this out: What to expect at the Zephyr Project Meetup (November 20\, 2025) – Garching\, Munich\, Germany \nRegistration is required for this meetup. Please register soon here! \nIf you have any questions related to this meetup\, please send your enquiry to meetups@zephyrproject.org
URL:https://zephyrproject.org/event/zephyr-project-meetup-november-20-2025-garching-munich-germany/
CATEGORIES:Meetup
ATTACH;FMTTYPE=image/png:https://zephyrproject.org/wp-content/uploads/2025/10/Zephyr-Project-meetup-Garching-Munich-Germany-November-202025.png
END:VEVENT
END:VCALENDAR