BEGIN:VCALENDAR
VERSION:2.0
PRODID:-//Zephyr Project - ECPv6.15.20//NONSGML v1.0//EN
CALSCALE:GREGORIAN
METHOD:PUBLISH
X-WR-CALNAME:Zephyr Project
X-ORIGINAL-URL:https://zephyrproject.org
X-WR-CALDESC:Events for Zephyr Project
REFRESH-INTERVAL;VALUE=DURATION:PT1H
X-Robots-Tag:noindex
X-PUBLISHED-TTL:PT1H
BEGIN:VTIMEZONE
TZID:UTC
BEGIN:STANDARD
TZOFFSETFROM:+0000
TZOFFSETTO:+0000
TZNAME:UTC
DTSTART:20250101T000000
END:STANDARD
END:VTIMEZONE
BEGIN:VEVENT
DTSTART;TZID=UTC:20260318T173000
DTEND;TZID=UTC:20260318T210000
DTSTAMP:20260421T074010
CREATED:20260217T134722Z
LAST-MODIFIED:20260225T172430Z
UID:10000187-1773855000-1773867600@zephyrproject.org
SUMMARY:Zephyr Project Meetup (March 18\, 2026) - Jena\, Germany
DESCRIPTION:Meet Zephyr – Moderne MCU-Applikationen am Beispiel des CAN Bus\nVon Zephyr zu CANnectivity – eine Safari durch moderne Werkzeugketten. \nIm Rahmen unseres nächsten Meetups in Jena – einem weiteren Hands-on-Workshop – nehmen wir dich mit auf eine Reise durch Beispiele\, Tests und fertige Applikationen aus dem Makrokosmos rund um das „Zephyr RTOS Project“. Aus den unzähligen Zephyr Treiber APIs und Subsystemen werden wir uns an diesem Abend intensiver mit der bestehenden CAN-Bus Implementierung beschäftigen. Fokus wird dabei auf der konsequenten Nutzung der vorhandenen Hardware-gnostischen Software und deren Architektur liegen – nicht nur von Zephyr\, sondern auch der noch jungen\, aber durchaus schon sehr prominenten Zephyr Downstream Applikation „CANnectivity”. \nAuch dieses Mal arbeiten wir nur minimal im Editor. Stattdessen analysieren wir „guten” und „schlechten” Zephyr-Applikationscode\, diskutieren bewährte Architektur- und Vorgehensmodelle und grenzen diese von weniger geeigneten Ansätzen ab. Darüber hinaus zeigen wir\, wie Zephyr als Technologie zur Kostenoptimierung im Entwicklungsalltag beiträgt und wie mithilfe moderner Entwicklungswerkzeuge MCU-Software vollständig ohne konkrete Zielhardware entwickelt werden kann. \nTobias Kästner von der inovex GmbH aus Karlsruhe wird uns mit seinem Impulsvortrag das Konzept von „Zephyr Downstream” vorstellen und daran reflektiert einige freie Zephyr Applikationsprojekte (Produkte) bewerten – unter anderem auch „CANnectivity”. \nStephan Linz von der Navimatix GmbH aus Jena führt euch dann durch den praktischen Workshop. Ihr integriert dabei „CANnectivity” auf ein FRDM-MCXN947 Entwicklungsboard von NXP\, baut dieses mit zusätzlichen Aufsteck-Boards um weitere CAN-Schnittstellen aus und lernt die einzelnen Integrationsschritte mit den bestehenden und immer gleichen Zephyr Werkzeugen\, Beispielen und Tests abzusichern. \nDer Abend wird mit einer kleinen Live-Demonstration enden. Dabei wird gezeigt\, wie die am Abend genutzte Applikationssoftware in geeignete Simulations- und Emulationsumgebungen integriert und\, zusammen mit realer Elektronik\, diese auch zu Hybridaufbauten überführt werden kann. \nMehr details hier.
URL:https://zephyrproject.org/event/zephyr-project-meetup-march-18-2026-jena-germany/
CATEGORIES:Meetup,Workshop
ATTACH;FMTTYPE=image/png:https://zephyrproject.org/wp-content/uploads/2026/02/Zephyr-Meetup-2026.png
END:VEVENT
BEGIN:VEVENT
DTSTART;TZID=UTC:20260326T173000
DTEND;TZID=UTC:20260326T220000
DTSTAMP:20260421T074010
CREATED:20260205T143743Z
LAST-MODIFIED:20260317T143623Z
UID:10000186-1774546200-1774562400@zephyrproject.org
SUMMARY:Zephyr Project meetup (March 26\, 2026): Rennes\, France
DESCRIPTION:Welcome to the Zephyr Project in-person meetup in Rennes\, France. This meetup is organised by Savoir-faire Linux & Silicon Labs\, located at Le Poool\, 1179 Av. des Champs Blancs\, 35510 Cesson-Sévigné. Map here. \nThis gathering is for anyone who’s curious about Open Source\, Embedded Systems Programming\, and Software Development. \nThere will be presentations based on products running Zephyr\, subsystems and features you might not have heard of yet. \nExpand your network and delve deep into the realm of dependable\, low power embedded systems. Whether you’re an experienced expert or just stepping into these fascinating areas\, this meetup provides the perfect platform for everyone! \nOur primary language for group communication and events is English\, and we warmly welcome individuals from all backgrounds. Seats are limited\, and we kindly request you to register soon to secure your spot. \nNote: This meetup is part of the Zephyr Community Meetup Series\, gatherings hosted by community members\, with support from the Zephyr Project. \nThe agenda for the meetup is live now. Read the “What to expect at Zephyr Project meetup (March 26\, 2026): Rennes\, France” blog to learn more the sessions.\n\nRegistration:\nRegistration is required for this meetup so the hosts can plan the space and logistics accordingly. Please register here. \nNote from the host team: \nSilicon Labs is proud to co-host this Zephyr Project Meetup in Rennes and to play a leading role in the global Zephyr community. As a Platinum Member of the Zephyr Project under the Linux Foundation\, Silicon Labs actively contributes both strategic and technical leadership to one of the most vibrant open source real-time operating system ecosystems in embedded development. Our contributions span upstream code\, hardware enablement\, tooling\, and community engagement\, and we serve alongside other industry leaders on the Zephyr Governing Board to help guide the project’s long-term direction and sustainability. Silicon Labs also delivers robust developer experiences through the Simplicity SDK for Zephyr\, ensuring deep support for connected IoT platforms and a seamless path from prototype to production. We look forward to connecting with developers\, maintainers\, and enthusiasts at this event as we continue to advance Zephyr together. \nSavoir-faire Linux is an open source engineering company specializing in embedded Linux\, real-time systems\, and custom development for critical and connected devices. Open source is part of our DNA\, and we actively contribute to the ecosystems we work with. As a Silver member of the Zephyr Project\, we support companies in adopting Zephyr for IoT and industrial applications through development\, training\, and community engagement. We are pleased to co-host this Zephyr Meetup in Rennes together with Silicon Labs and to help grow the local and global Zephyr community.
URL:https://zephyrproject.org/event/zephyr-project-meetup-march-26-2026-rennes-france/
CATEGORIES:Meetup
ATTACH;FMTTYPE=image/png:https://zephyrproject.org/wp-content/uploads/2026/02/Zephyr-Project-Meetup-March-26-2026-Rennes-France-2.png
END:VEVENT
BEGIN:VEVENT
DTSTART;TZID=UTC:20260327T130000
DTEND;TZID=UTC:20260327T180000
DTSTAMP:20260421T074010
CREATED:20260119T143106Z
LAST-MODIFIED:20260119T143218Z
UID:10000184-1774616400-1774634400@zephyrproject.org
SUMMARY:Zephyr Project meetup (March 27\, 2026): Nagoya\, Japan
DESCRIPTION:The Zephyr project holds meetups around the world for the purpose of networking between users and developers. \nThis is the fourth time the event has been held in Japan\, and it will be held at the Brother Museum in Nagoya. \nDate & Time: March 27\, 2026 (Friday) 13:00～18:00 \nVenue: Brother Museum Communication Hall\, Nagoya\, Aichi Prefecture \nGoogle Map: https://maps.app.goo.gl/xWXUDZ8p3Se8zG7V9 \nLearn more about the event here.
URL:https://zephyrproject.org/event/zephyr-project-meetup-march-27-2026-nagoya-japan/
CATEGORIES:Meetup
ATTACH;FMTTYPE=image/png:https://zephyrproject.org/wp-content/uploads/2026/01/Zephyr-Project-meetup-Nagoya-Japan-March-27-2026.png
END:VEVENT
END:VCALENDAR