BEGIN:VCALENDAR
VERSION:2.0
PRODID:-//Zephyr Project - ECPv6.15.20//NONSGML v1.0//EN
CALSCALE:GREGORIAN
METHOD:PUBLISH
X-WR-CALNAME:Zephyr Project
X-ORIGINAL-URL:https://zephyrproject.org
X-WR-CALDESC:Events for Zephyr Project
REFRESH-INTERVAL;VALUE=DURATION:PT1H
X-Robots-Tag:noindex
X-PUBLISHED-TTL:PT1H
BEGIN:VTIMEZONE
TZID:UTC
BEGIN:STANDARD
TZOFFSETFROM:+0000
TZOFFSETTO:+0000
TZNAME:UTC
DTSTART:20240101T000000
END:STANDARD
END:VTIMEZONE
BEGIN:VEVENT
DTSTART;TZID=UTC:20251208T190000
DTEND;TZID=UTC:20251208T210000
DTSTAMP:20260422T210911
CREATED:20251127T174813Z
LAST-MODIFIED:20251127T175022Z
UID:10000178-1765220400-1765227600@zephyrproject.org
SUMMARY:Zephyr Project Meetup: Toyosu\, Tokyo\, Japan
DESCRIPTION:Welcome to the Zephyr Project in-person meetup in Toyosu\, Tokyo\, Japan! This special edition of the meetup will be held in conjunction with Open Source Summit Japan and welcomes anyone interested in Open Source\, Embedded Systems Programming\, and Software Development. \nThis evening event will take place at the Toyosu Office of Renesas Electronics Corporation. \nGoogle Map: here \nDate & Time: December 8\, 2025 — 7:00 PM to 9:00 PM (JST) \nThere will be presentations covering products running Zephyr\, subsystems you may not have discovered yet\, and features emerging across the ecosystem. \nJoin us to expand your network and explore the world of dependable\, low-power embedded systems. Whether you’re an experienced professional or just stepping into these technologies\, this meetup offers a welcoming space for everyone! \nOur primary language for group communication and events is English\, and we warmly welcome individuals from all backgrounds. Please note that venue capacity is approximately 30 people\, and registration may close early if we reach the limit. \nRegistration Information\nThose who register by 23:59 on December 3\, 2025 will receive a follow-up email with entry details. We will try to accommodate registrations submitted after this date\, but due to building management procedures\, we cannot guarantee acceptance.\nWe apologize for the short registration window and kindly ask you to register as early as possible. Registration link here. \nInterested in giving a short presentation?  \nSubmit your talk proposal here. \nTravel info \nParticipants will share a taxi from the OSSJ venue. After the conference closing\, please gather around Hall B3\, where the Zephyr track will be held. \nQuestions? \nIf you have any questions regarding this meetup\, please contact: tokita.hiroshi@gmail.com \nOr message @yashi or @soburi on #events-asia. \nNote: This meetup is part of the Zephyr Community Meetup Series\, gatherings hosted by community members\, with support from the Zephyr Project. \nWe look forward to seeing you in Toyosu!
URL:https://zephyrproject.org/event/zephyr-project-meetup-toyosu-tokyo-japan/
CATEGORIES:Meetup
ATTACH;FMTTYPE=image/png:https://zephyrproject.org/wp-content/uploads/2025/11/Zephyr-project-meetup-Toyosu-Tokyo-Japan.-December-8-2025.png
END:VEVENT
END:VCALENDAR