BEGIN:VCALENDAR
VERSION:2.0
PRODID:-//Zephyr Project - ECPv6.15.20//NONSGML v1.0//EN
CALSCALE:GREGORIAN
METHOD:PUBLISH
X-WR-CALNAME:Zephyr Project
X-ORIGINAL-URL:https://zephyrproject.org
X-WR-CALDESC:Events for Zephyr Project
REFRESH-INTERVAL;VALUE=DURATION:PT1H
X-Robots-Tag:noindex
X-PUBLISHED-TTL:PT1H
BEGIN:VTIMEZONE
TZID:UTC
BEGIN:STANDARD
TZOFFSETFROM:+0000
TZOFFSETTO:+0000
TZNAME:UTC
DTSTART:20250101T000000
END:STANDARD
END:VTIMEZONE
BEGIN:VEVENT
DTSTART;TZID=UTC:20260626T140000
DTEND;TZID=UTC:20260626T180000
DTSTAMP:20260423T231303
CREATED:20260423T155744Z
LAST-MODIFIED:20260423T155906Z
UID:10000197-1782482400-1782496800@zephyrproject.org
SUMMARY:Zephyr Project Meetup (June 26\, 2026): Sapporo\, Japan
DESCRIPTION:The Zephyr project holds meetups around the world for the purpose of networking between users and developers. \nDate & Time: June 26\, 2026 – 2:00pm – 6:00pm \nLearn more about the event and register here.
URL:https://zephyrproject.org/event/zephyr-project-meetup-june-26-2026-sapporo-japan/
CATEGORIES:Ambassador Speaking,Meetup
ATTACH;FMTTYPE=image/png:https://zephyrproject.org/wp-content/uploads/2026/04/Zephyr-Project-Meetup-June-26-2026-Sapporo-Japan-2.png
END:VEVENT
END:VCALENDAR