BEGIN:VCALENDAR
VERSION:2.0
PRODID:-//Zephyr Project - ECPv6.15.20//NONSGML v1.0//EN
CALSCALE:GREGORIAN
METHOD:PUBLISH
X-ORIGINAL-URL:https://zephyrproject.org
X-WR-CALDESC:Events for Zephyr Project
REFRESH-INTERVAL;VALUE=DURATION:PT1H
X-Robots-Tag:noindex
X-PUBLISHED-TTL:PT1H
BEGIN:VTIMEZONE
TZID:UTC
BEGIN:STANDARD
TZOFFSETFROM:+0000
TZOFFSETTO:+0000
TZNAME:UTC
DTSTART:20250101T000000
END:STANDARD
END:VTIMEZONE
BEGIN:VEVENT
DTSTART;TZID=UTC:20260325T150000
DTEND;TZID=UTC:20260325T160000
DTSTAMP:20260421T084928
CREATED:20260409T083024Z
LAST-MODIFIED:20260409T083024Z
UID:10000193-1774450800-1774454400@zephyrproject.org
SUMMARY:Cellular IoT Projects with Zephyr and the nRF9151 MicroMod Processor // Zephyr Tech Talk #032
DESCRIPTION:The nRF9151 MicroMod Processor is a board that brings LTE-M\, NB-IoT\, and GNSS to SparkFun’s MicroMod ecosystem… and it runs Zephyr! In this Tech Talk\, Benjamin Cabé will be joined by its creator\, Christian Hirsch\, to explore how open hardware and Zephyr’s connectivity stack can dramatically lower the barrier to building real-world cellular IoT applications. \nAs always\, we’ll skip the slides and dive straight into a discussion and live demos (and traffic lights might be involved!). Since the board is also about to launch on Crowd Supply\, we’ll get a chance to discuss the journey from prototype to open hardware campaign\, and what’s next for the project. \nZephyr Tech Talks are live streams organized by and for the Zephyr community. Join us live to ask your questions directly to our guests\, or catch the recording anytime afterward. \nWatch the LinkedIn live here.
URL:https://zephyrproject.org/event/cellular-iot-projects-with-zephyr-and-the-nrf9151-micromod-processor-zephyr-tech-talk-032/
CATEGORIES:Zephyr Tech Talk
ATTACH;FMTTYPE=image/jpeg:https://zephyrproject.org/wp-content/uploads/2026/04/maxresdefault-2.jpg
END:VEVENT
END:VCALENDAR